BEGIN:VCALENDAR
VERSION:2.0
PRODID:-//ChamberMaster//Event Calendar 2.0//EN
METHOD:PUBLISH
X-PUBLISHED-TTL:P3D
REFRESH-INTERVAL:P3D
CALSCALE:GREGORIAN
BEGIN:VEVENT
DTSTART:20140510T180000Z
DTEND:20140510T180000Z
X-MICROSOFT-CDO-ALLDAYEVENT:FALSE
SUMMARY:2nd Annual Utah Downed Biker Fundraising Rally
DESCRIPTION:Bikers helping bikers involved in a motorcycle accident resulting in hospitalization through a one time financial gift\, assistance and counseling\; regardless of race\, color\, religion\, or club affiliation.
X-ALT-DESC;FMTTYPE=text/html:Bikers helping bikers involved in a motorcycle accident resulting in hospitalization through a one time financial gift\, assistance and counseling\; regardless of race\, color\, religion\, or club affiliation.
LOCATION:Ride starts at Zion Harley-Davidson
UID:e.1117.5108
SEQUENCE:3
DTSTAMP:20260421T112402Z
URL:https://business.stgeorgechamber.com/events/details/2nd-annual-utah-downed-biker-fundraising-rally-05-10-2014-5108
END:VEVENT

END:VCALENDAR
