BEGIN:VCALENDAR
VERSION:2.0
PRODID:-//ChamberMaster//Event Calendar 2.0//EN
METHOD:PUBLISH
X-PUBLISHED-TTL:P3D
REFRESH-INTERVAL:P3D
CALSCALE:GREGORIAN
BEGIN:VEVENT
DTSTART:20160403T010000Z
DTEND:20160403T030000Z
X-MICROSOFT-CDO-ALLDAYEVENT:FALSE
SUMMARY:2nd Annual "Dancing With Your Community Stars"
DESCRIPTION:Washington County Children's Justice Center presents the 2nd Annual "Dancing with your Community Stars".  Local Stars are: Terri Kane\, Lorri Soqui\, Ben Shakespeare\, Eric Dodge\, Sherrie Staheli & David Cordero. Each ticket bearer will be eligible for our grand prize - a 7 night Princess Cruise for 2 to your choice of the Mexican Riviera\, the Caribbean or Alaska!\n\nFundraiser sponsored by Washington County Children's Justice Center\, SUHBA\, Spectrum Media & Travel Connection.
X-ALT-DESC;FMTTYPE=text/html:<span style="font-size:14px\;"><span style="font-family:arial\;"><span style="line-height: normal\;">Washington County Children&#39\;s Justice Center presents the 2nd Annual &quot\;Dancing with your Community Stars&quot\;. &nbsp\;Local Stars are: Terri Kane\, Lorri Soqui\, Ben Shakespeare\, Eric Dodge\, Sherrie Staheli &amp\; David Cordero. Each ticket bearer will be eligible for our grand prize - a 7 night Princess Cruise for 2 to your choice of the Mexican Riviera\, the Caribbean or Alaska!<br />\nFundraiser sponsored by Washington County Children&#39\;s Justice Center\, SUHBA\, Spectrum Media &amp\; Travel Connection.&nbsp\;</span></span></span>
LOCATION:Dixie High School Auditorium
UID:e.1117.8481
SEQUENCE:3
DTSTAMP:20260419T215753Z
URL:https://business.stgeorgechamber.com/events/details/2nd-annual-dancing-with-your-community-stars-04-02-2016-8481
END:VEVENT

END:VCALENDAR
