BEGIN:VCALENDAR
VERSION:2.0
PRODID:-//ChamberMaster//Event Calendar 2.0//EN
METHOD:PUBLISH
X-PUBLISHED-TTL:P3D
REFRESH-INTERVAL:P3D
CALSCALE:GREGORIAN
BEGIN:VEVENT
DTSTART:20150417T140000Z
DTEND:20150417T203000Z
X-MICROSOFT-CDO-ALLDAYEVENT:FALSE
SUMMARY:2015 Corporate Sports Challenge
DESCRIPTION:Compete\, Connect and Play It Forward at the 2015 Corporate Sports Challenge which brings together local businesses and their employees for a day of friendly competition in fun\, sports-oriented activities that promote team building\, corporate wellness and business networking - all for a great cause! All proceeds benefit The Learning Center for Families. Team challenges will include activities such as rock wall\, water rollers\, tug-o-war\, dodge ball\, basketball\, etc. All participants receive breakfast\, lunch\, tech t-shirt and swag bag and teams will receive an award and a chance to have their team's name on the Corporate Sports Challenge Cup. All skill and fitness levels welcome. Teams can include employees\, family friends 18+ but must include at least one male and female.
X-ALT-DESC;FMTTYPE=text/html:Compete\, Connect and Play It Forward at the 2015 Corporate Sports Challenge which brings together local businesses and their employees for a day of friendly competition in fun\, sports-oriented activities that promote team building\, corporate wellness and business networking - all for a great cause! All proceeds benefit The Learning Center for Families. Team challenges will include activities such as rock wall\, water rollers\, tug-o-war\, dodge ball\, basketball\, etc. All participants receive breakfast\, lunch\, tech t-shirt and swag bag and teams will receive an award and a chance to have their team&#39\;s name on the Corporate Sports Challenge Cup. All skill and fitness levels welcome. Teams can include employees\, family friends 18+ but must include at least one male and female.
LOCATION:Washington City Community Center
UID:e.1117.6297
SEQUENCE:3
DTSTAMP:20260420T190911Z
URL:https://business.stgeorgechamber.com/events/details/2015-corporate-sports-challenge-04-17-2015-6297
END:VEVENT

END:VCALENDAR
