BEGIN:VCALENDAR
VERSION:2.0
PRODID:-//ChamberMaster//Event Calendar 2.0//EN
METHOD:PUBLISH
X-PUBLISHED-TTL:P3D
REFRESH-INTERVAL:P3D
CALSCALE:GREGORIAN
BEGIN:VEVENT
DTSTART:20141022T180000Z
DTEND:20141026T180000Z
X-MICROSOFT-CDO-ALLDAYEVENT:FALSE
SUMMARY:2014 Professional Bull Riders World Finals
DESCRIPTION:The World Finals showcases the world's top 50 cowboys as they battle it out to be crowned the World Champion. It's man vs. beast wrapped in the glitz and glamour that only the PBR can provide. These five days will be action packed in a rock and roll environment with professional pyrotechnics\, sound and video elements. Viewers from around the world will watch the action from Las Vegas unfold on the all new PBR Live! streaming service. Its action\, danger & thrills in an all new bull riding spectacular. Buckle Up.
X-ALT-DESC;FMTTYPE=text/html:The World Finals showcases the world&#39\;s top 50 cowboys as they battle it out to be crowned the World Champion. It&#39\;s man vs. beast wrapped in the glitz and glamour that only the PBR can provide. These five days will be action packed in a rock and roll environment with professional pyrotechnics\, sound and video elements. Viewers from around the world will watch the action from Las Vegas unfold on the all new PBR Live! streaming service. Its action\, danger &amp\; thrills in an all new bull riding spectacular. Buckle Up.
LOCATION:UNLV Thomas & Mack Center\, Las Vegas\, NV
UID:e.1117.6134
SEQUENCE:3
DTSTAMP:20260421T025953Z
URL:https://business.stgeorgechamber.com/events/details/2014-professional-bull-riders-world-finals-10-22-2014-6134
END:VEVENT

END:VCALENDAR
