BEGIN:VCALENDAR
VERSION:2.0
PRODID:-//ChamberMaster//Event Calendar 2.0//EN
METHOD:PUBLISH
X-PUBLISHED-TTL:P3D
REFRESH-INTERVAL:P3D
CALSCALE:GREGORIAN
BEGIN:VEVENT
DTSTART;VALUE=DATE:20141121
DTEND;VALUE=DATE:20141122
TRANSP:TRANSPARENT
X-MICROSOFT-CDO-ALLDAYEVENT:TRUE
SUMMARY:2014 Community Award Nominations
DESCRIPTION:We are seeking your nominations for deserving recipients of this year's Community Awards.\n\n\n\nWe ask for your nominations for the following:\n\n \n\nLegacy of a Lifetime Award\n\nChampion of Change Award\n\nEmergence of an Entrepreneur Award\n\nEmployee of Excellence Award\n\nInfluence of Innovation Award\n\nCommunity of Compassion Award\n\nSpirit of Dixie Award\n\n \n\nClick on this link to nominate individuals and to find out more about each award that you feel are deserving of this prestigious recognition.\n\n \n\nHave you visited a local business and received great service? Do you know a business professional who is innovated or gone above and beyond? Or is there an exception non-profit organization or community volunteer who deserves to be recognized? \n\n \n\nLet your voice be heard and nominate an individual or business who has strives to make southern Utah a better place to live and work!
X-ALT-DESC;FMTTYPE=text/html:<strong>We are seeking your nominations for deserving recipients of this year&#39\;s Community Awards.</strong><br />\n<br />\nWe ask for your nominations for the following:<br />\n&nbsp\;<br />\n<strong><em>Legacy of a Lifetime Award</em></strong><br />\n<strong><em>Champion of Change Award</em></strong><br />\n<strong><em>Emergence of an Entrepreneur Award</em></strong><br />\n<strong><em>Employee of Excellence Award</em></strong><br />\n<strong><em>Influence of Innovation Award</em></strong><br />\n<strong><em>Community of Compassion Award</em></strong><br />\n<strong><em>Spirit of Dixie Award</em></strong><br />\n&nbsp\;<br />\n<a href="http://survey.constantcontact.com/survey/a07ea3b8d5xi26cijqq/start"><strong><span style="font-size:26px\;">Click on this link&nbsp\;to nominate</span></strong></a> individuals and to find out more about each award that you feel are deserving of this prestigious recognition.<br />\n&nbsp\;<br />\nHave you visited a local business and received great service? Do you know a business professional who is innovated or gone above and beyond? Or is there an exception non-profit organization or community volunteer who deserves to be recognized?&nbsp\;<br />\n&nbsp\;<br />\nLet your voice be heard and nominate an individual or business who has strives to make southern Utah a better place to live and work!
LOCATION:
UID:e.1117.6195
SEQUENCE:3
DTSTAMP:20260421T025744Z
URL:https://business.stgeorgechamber.com/events/details/2014-community-award-nominations-11-21-2014-6195
END:VEVENT

END:VCALENDAR
