BEGIN:VCALENDAR
VERSION:2.0
PRODID:-//ChamberMaster//Event Calendar 2.0//EN
METHOD:PUBLISH
X-PUBLISHED-TTL:P3D
REFRESH-INTERVAL:P3D
CALSCALE:GREGORIAN
BEGIN:VEVENT
DTSTART:20131123T150000Z
DTEND:20131123T190000Z
X-MICROSOFT-CDO-ALLDAYEVENT:FALSE
SUMMARY:2013 Jingle Bell Run/Walk for Arthritis
DESCRIPTION:The Jingle Bell Run/Walk is a fun\, festive event for the whole family! Put on your reindeer antlers and your running shoes and come join us for some holiday cheer. 5K Chip Timed Run\, 5K Fun Run/Walk\, Costume Contest\, Children's Run with the Elves.
X-ALT-DESC;FMTTYPE=text/html:<span style="color: rgb(0\, 0\, 0)\; font-family: Verdana\, Arial\, Helvetica\, sans-serif\; font-size: medium\;">The Jingle Bell Run/Walk is a fun\, festive event for the whole family! Put on your reindeer antlers and your running shoes and come join us for some holiday cheer. 5K Chip Timed Run\, 5K Fun Run/Walk\, Costume Contest\, Children&#39\;s Run with the Elves.</span>
LOCATION:Vernon Worthen Park 400 East 300 South St. George\, UT
UID:e.1117.4956
SEQUENCE:3
DTSTAMP:20260421T194708Z
URL:https://business.stgeorgechamber.com/events/details/2013-jingle-bell-run-walk-for-arthritis-11-23-2013-4956
END:VEVENT

END:VCALENDAR
