BEGIN:VCALENDAR
VERSION:2.0
PRODID:-//ChamberMaster//Event Calendar 2.0//EN
METHOD:PUBLISH
X-PUBLISHED-TTL:P3D
REFRESH-INTERVAL:P3D
CALSCALE:GREGORIAN
BEGIN:VEVENT
DTSTART:20160204T010000Z
DTEND:20160204T023000Z
X-MICROSOFT-CDO-ALLDAYEVENT:FALSE
SUMMARY:1st Annual Southern Utah Networking Celebration
DESCRIPTION:February 1st marks the beginning of International Networking Week\, and in honor of this occasion the three largest business networking groups in St. George are coming together to sponsor a celebration of the incredible business networking that takes place right here in our community. \n\n \n\nBNI\, Corporate Alliance\, and the St. George Chamber Commerce are proud to announce the 1st Annual Southern Utah Networking Celebration. The event is free for BNI\, Corporate Alliance\, and St. George Chamber members\, and their guests\, and includes refreshments and entertainment. There will also be some awesome door prizes provided by local businesses\, and the Southern Utah Networker of the Year will be announced. This event is not to be missed\, as it will surely be one of the top networking events of the year. If you are engaged in business in Southern Utah you need to be at this event.\n\n \n\nThis year's theme for International Networking Week is the Young Entrepreneur\, so all members who bring a guest between the ages of 18 and 21 will receive a 2nd entry for themselves in the door prize drawing.\n\n \n\nHere are the details:\n\n \n\nWhy: To celebrate the incredible business networking that takes place in Southern Utah.\n\nWhen: Wednesday February 3rd - 5:30 to 7:30pm\n\nWhere: The Falls Event Center - 170 S. Mall Drive\, St George UT\n\nWhat to Bring: Just yourself and any guests. Refreshments\, Entertainment will be provided\, and there will be a Door Prize drawing (receive an extra entry for bringing young guests between 18 & 21).\n\n \n\nRSVP: It is very important that you RSVP for this event with the total number who plan attending.
X-ALT-DESC;FMTTYPE=text/html:<span style="color:#000000\;"><span style="font-size:14px\;"><span style="font-family:arial\;">February 1st marks the beginning of International Networking Week\, and in honor of this occasion the three largest business networking groups in St. George are coming together to sponsor a celebration of the incredible business networking that takes place right here in our community.&nbsp\;<br />\n&nbsp\;<br />\nBNI\, Corporate Alliance\, and the St. George Chamber Commerce are proud to announce the 1st Annual Southern Utah Networking Celebration. The event is free for BNI\, Corporate Alliance\, and St. George Chamber members\, and their guests\, and includes refreshments and entertainment. There will also be some awesome door prizes provided by local businesses\, and the Southern Utah Networker of the Year will be announced. This event is not to be missed\, as it will surely be one of the top networking events of the year. If you are engaged in business in Southern Utah you need to be at this event.<br />\n&nbsp\;<br />\nThis year&#39\;s theme for International Networking Week is the Young Entrepreneur\, so all members who bring a guest between the ages of 18 and 21 will receive a 2nd entry for themselves in the door prize drawing.<br />\n&nbsp\;<br />\nHere are the details:<br />\n&nbsp\;<br />\n<strong>Why:</strong>&nbsp\;To celebrate the incredible business networking that takes place in Southern Utah.<br />\n<strong>When:&nbsp\;</strong>Wednesday February 3rd - 5:30 to 7:30pm<br />\n<strong>Where:&nbsp\;</strong>The Falls Event Center - 170 S. Mall Drive\, St George UT<br />\n<strong>What to Bring:</strong>&nbsp\;Just yourself and any guests. Refreshments\, Entertainment will be provided\, and there will be a Door Prize drawing (receive an extra entry for bringing young guests between 18 &amp\; 21).<br />\n&nbsp\;<br />\n<strong>RSVP:</strong>&nbsp\;It is very important that you RSVP for this event with the total number who plan attending.</span></span></span>
LOCATION:The Falls Event Center 170 S. Mall Dr. St. George
UID:e.1117.7397
SEQUENCE:3
DTSTAMP:20260420T012843Z
URL:https://business.stgeorgechamber.com/events/details/1st-annual-southern-utah-networking-celebration-02-03-2016-7397
END:VEVENT

END:VCALENDAR
