BEGIN:VCALENDAR
VERSION:2.0
PRODID:-//ChamberMaster//Event Calendar 2.0//EN
METHOD:PUBLISH
X-PUBLISHED-TTL:P3D
REFRESH-INTERVAL:P3D
CALSCALE:GREGORIAN
BEGIN:VEVENT
DTSTART:20160126T010000Z
DTEND:20160126T023000Z
X-MICROSOFT-CDO-ALLDAYEVENT:FALSE
SUMMARY:1st Annual Remembrance Ceremony
DESCRIPTION:1st Annual Remembrance Ceremony. Time to reflect and remember the ones that have passed away. Bringing our community together to honor loved ones that have passed on. The public is invited to join the beautiful candlelight ceremony and participate in writing a message\, such as a treasured memory or note expressing love or grief and attach the message to a balloon. All balloons will be released together for a beautiful finish to the memorial service.
X-ALT-DESC;FMTTYPE=text/html:1st Annual Remembrance Ceremony. Time to reflect and remember the ones that have passed away. Bringing our community together to honor loved ones that have passed on. The public is invited to join the beautiful candlelight ceremony and participate in writing a message\, such as a treasured memory or note expressing love or grief and attach the message to a balloon. All balloons will be released together for a beautiful finish to the memorial service.
LOCATION:Hughes Mortuary\, 1037 East 700 South\, St. George\, Utah
UID:e.1117.8428
SEQUENCE:3
DTSTAMP:20260420T031136Z
URL:https://business.stgeorgechamber.com/events/details/1st-annual-remembrance-ceremony-01-25-2016-8428
END:VEVENT

END:VCALENDAR
