BEGIN:VCALENDAR
VERSION:2.0
PRODID:-//ChamberMaster//Event Calendar 2.0//EN
METHOD:PUBLISH
X-PUBLISHED-TTL:P3D
REFRESH-INTERVAL:P3D
CALSCALE:GREGORIAN
BEGIN:VEVENT
DTSTART;VALUE=DATE:20160511
DTEND;VALUE=DATE:20160512
TRANSP:TRANSPARENT
X-MICROSOFT-CDO-ALLDAYEVENT:TRUE
SUMMARY:13th Annual Chamber Classic Golf Tournament Hole Sponsorship
DESCRIPTION:The Chamber of Commerce is gearing up to "tee off" at this year's 13th Annual Chamber Classic Golf Tournament held on Wednesday\, May 11 at Sunbrook Golf Course. Sign your business up for a hole sponsorship guaranteed to bring amazing exposure!
X-ALT-DESC;FMTTYPE=text/html:<span style="color:#000000\;"><span style="font-size:14px\;"><span style="font-family:arial\;">The Chamber of Commerce is gearing up to &ldquo\;tee off&rdquo\; at this year&rsquo\;s 13th Annual Chamber Classic Golf Tournament held on Wednesday\, May 11 at Sunbrook Golf Course. Sign your business up for a hole sponsorship guaranteed to bring amazing exposure!</span></span></span>
LOCATION:Sunbrook Golf Course
UID:e.1117.8475
SEQUENCE:3
DTSTAMP:20260419T201729Z
URL:https://business.stgeorgechamber.com/events/details/13th-annual-chamber-classic-golf-tournament-hole-sponsorship-05-11-2016-8475
END:VEVENT

END:VCALENDAR
