BEGIN:VCALENDAR
VERSION:2.0
PRODID:-//ChamberMaster//Event Calendar 2.0//EN
METHOD:PUBLISH
X-PUBLISHED-TTL:P3D
REFRESH-INTERVAL:P3D
CALSCALE:GREGORIAN
BEGIN:VEVENT
DTSTART:20160511T130000Z
DTEND:20160511T210000Z
X-MICROSOFT-CDO-ALLDAYEVENT:FALSE
SUMMARY:13th Annual Chamber Classic Golf Tournament
DESCRIPTION:New changes!  New day! \n\n\n\nThe 13th Annual Chamber Golf Classic has had perfect golfing weather 10 years in a row\, and this year's tournament is scheduled to be on 'par' to be another 'hole in one!'  For only $125 per person or $450 for a team of 4\, register now to play in this exciting golf tournament!  Get your clubs out! \n\nPrice includes breakfast\, beverage cart\, hot-dog special\, catered lunch\, free polo t-shirt and more!
X-ALT-DESC;FMTTYPE=text/html:<p><span style="color:#000000\;"><span style="font-family: arial\;"><span style="font-size: 16px\;">New changes! &nbsp\;New day!&nbsp\;<br />\n<br />\nThe 13th Annual Chamber Golf Classic has had perfect golfing weather 10&nbsp\;years in a row\, and this year&#39\;s tournament is scheduled to be on &#39\;par&#39\; to be another &#39\;hole in one!&#39\; &nbsp\;For only $125 per person or $450 for a team of 4\, register now to play in this exciting golf tournament!&nbsp\; Get your clubs out!&nbsp\;<br />\nPrice includes breakfast\, beverage cart\, hot-dog special\, catered lunch\, free polo t-shirt and more!</span></span></span></p>\n
LOCATION:Sunbrook Golf Course 2366 W. Sunbrook Dr. St. George\, UT
UID:e.1117.8474
SEQUENCE:3
DTSTAMP:20260419T183450Z
URL:https://business.stgeorgechamber.com/events/details/13th-annual-chamber-classic-golf-tournament-05-11-2016-8474
END:VEVENT

END:VCALENDAR
