BEGIN:VCALENDAR
VERSION:2.0
PRODID:-//ChamberMaster//Event Calendar 2.0//EN
METHOD:PUBLISH
X-PUBLISHED-TTL:P3D
REFRESH-INTERVAL:P3D
CALSCALE:GREGORIAN
BEGIN:VEVENT
DTSTART;VALUE=DATE:20150515
DTEND;VALUE=DATE:20150516
TRANSP:TRANSPARENT
X-MICROSOFT-CDO-ALLDAYEVENT:TRUE
SUMMARY:12th Annual Chamber Classic Golf Tournament Hole Sponsorship
DESCRIPTION:The Chamber of Commerce is gearing up to "tee off" at this year's 12th Annual Chamber Classic Golf Tournament held on May 15 at Sunbrook Golf Course. Sign your business up for a hole sponsorship guaranteed to bring amazing exposure!\n\n \n\nJoin these businesses already supporting this great event:  America First Credit Union\, Baja Broadband\, Camping World\, CenturyLink\, Eureka Casino Hotel\, Dixie Applied Technology College\, Red Mountain Resort\, Security Service Federal Credit Union\, Therapia\, Workers Compensation Fund and more.
X-ALT-DESC;FMTTYPE=text/html:<span style="font-size:14px\;"><span style="font-family:arial\;">The Chamber of Commerce is gearing up to &ldquo\;tee off&rdquo\; at this year&rsquo\;s 12th Annual Chamber Classic Golf Tournament held on May 15&nbsp\;at Sunbrook Golf Course. Sign your business up for a hole sponsorship guaranteed to bring amazing exposure!<br />\n&nbsp\;<br />\nJoin these businesses already supporting this great event: &nbsp\;America First Credit Union\,&nbsp\;Baja Broadband\, Camping World\, CenturyLink\, Eureka Casino Hotel\, Dixie Applied Technology College\, Red Mountain Resort\,&nbsp\;Security Service Federal Credit Union\, Therapia\, Workers Compensation Fund&nbsp\;and more. &nbsp\;</span></span>
LOCATION:Sunbrook Golf Course
UID:e.1117.6399
SEQUENCE:3
DTSTAMP:20260420T155439Z
URL:https://business.stgeorgechamber.com/events/details/12th-annual-chamber-classic-golf-tournament-hole-sponsorship-05-15-2015-6399
END:VEVENT

END:VCALENDAR
