BEGIN:VCALENDAR
VERSION:2.0
PRODID:-//ChamberMaster//Event Calendar 2.0//EN
METHOD:PUBLISH
X-PUBLISHED-TTL:P3D
REFRESH-INTERVAL:P3D
CALSCALE:GREGORIAN
BEGIN:VEVENT
DTSTART:20150515T130000Z
DTEND:20150515T210000Z
X-MICROSOFT-CDO-ALLDAYEVENT:FALSE
SUMMARY:12th Annual Chamber Classic Golf Tournament
DESCRIPTION:Presented in part by CenturyLink\, the 12th Annual Chamber Golf Classic has had perfect golfing weather 9 years in a row\, and this year's tournament is scheduled to be on 'par' to be another 'hole in one!'  For only $125 per person or $400 for a team of 4\, register now to play in this exciting golf tournament!  Get your clubs out!  Each person is entered in to our drawing where you could win our Grand Prize\, two FREE SkyWest airline tickets to Denver from the St. George Airport\, sponsored by Security Service Federal Credit Union!  You won't want to miss this great event!  Continental breakfast and lunch included.  Lots of free swag!
X-ALT-DESC;FMTTYPE=text/html:<p><span style="font-family: arial\;"><span style="font-size: 16px\;">Presented in part by <a href="http://centurylink.com">CenturyLink</a>\, the 12th Annual Chamber Golf Classic has had perfect golfing weather 9&nbsp\;years in a row\, and this year&#39\;s tournament is scheduled to be on &#39\;par&#39\; to be another &#39\;hole in one!&#39\; &nbsp\;For only $125 per person or $400 for a team of 4\, register now to play in this exciting golf tournament!&nbsp\; Get your clubs out!&nbsp\; Each person is entered in to our drawing where you could win our Grand Prize\, two FREE SkyWest airline tickets to Denver from the St. George Airport\, sponsored by <a href="http://www.ssfcu.org">Security Service Federal Credit Union</a>! &nbsp\;You won&#39\;t want to miss this great event! &nbsp\;Continental breakfast and lunch included. &nbsp\;Lots of free swag!</span></span></p>\n
LOCATION:Sunbrook Golf Course 2366 W. Sunbrook Dr. St. George\, UT
UID:e.1117.6356
SEQUENCE:3
DTSTAMP:20260420T173242Z
URL:https://business.stgeorgechamber.com/events/details/12th-annual-chamber-classic-golf-tournament-05-15-2015-6356
END:VEVENT

END:VCALENDAR
