BEGIN:VCALENDAR
VERSION:2.0
PRODID:-//ChamberMaster//Event Calendar 2.0//EN
METHOD:PUBLISH
X-PUBLISHED-TTL:P3D
REFRESH-INTERVAL:P3D
CALSCALE:GREGORIAN
BEGIN:VEVENT
DTSTART;VALUE=DATE:20130510
DTEND;VALUE=DATE:20130511
TRANSP:TRANSPARENT
X-MICROSOFT-CDO-ALLDAYEVENT:TRUE
SUMMARY:10th Annual Chamber Classic Golf Tournament Hole Sponsorship
DESCRIPTION:The Chamber of Commerce is gearing up to "tee off" at this year's 10th Annual Chamber Classic Golf Tournament held on May 10 at Sunbrook Golf Course. Sign your business up for a hole sponsorship guaranteed to bring amazing exposure!\n\n \n\nSign your business up for a hole sponsorship guaranteed to bring extra exposure  and join these businesses supporting this great event:  Baja Broadband\, Camping World\, Carl's Jr.\, CenturyLink\, Dixie Business Alliance\, ERA Brokers Consolidated\, Fabulous Freddy's\, Security Service Federal Credit Union\, SouthWest Vision\, Valpak and more.
X-ALT-DESC;FMTTYPE=text/html:<span style="font-family:arial\,sans-serif\;"><span style="font-size:10pt\;">The Chamber of Commerce is gearing up to &ldquo\;tee off&rdquo\; at this year&rsquo\;s 10th Annual Chamber Classic Golf Tournament held on May 10 at Sunbrook Golf Course. Sign your business up for a hole sponsorship guaranteed to bring amazing exposure!</span></span><br />\n&nbsp\;<br />\nSign your business up for a hole sponsorship guaranteed to bring extra exposure &nbsp\;and join these businesses supporting this great event:&nbsp\; Baja Broadband\, Camping World\, Carl&rsquo\;s Jr.\, CenturyLink\, Dixie Business Alliance\, ERA Brokers Consolidated\, Fabulous Freddy&rsquo\;s\, Security Service Federal Credit Union\, SouthWest Vision\, Valpak and more. &nbsp\;<br />\n
LOCATION:Sunbrook Golf Course
UID:e.1117.2931
SEQUENCE:3
DTSTAMP:20260422T041917Z
URL:https://business.stgeorgechamber.com/events/details/10th-annual-chamber-classic-golf-tournament-hole-sponsorship-05-10-2013-2931
END:VEVENT

END:VCALENDAR
