BEGIN:VCALENDAR
VERSION:2.0
PRODID:-//ChamberMaster//Event Calendar 2.0//EN
METHOD:PUBLISH
X-PUBLISHED-TTL:P3D
REFRESH-INTERVAL:P3D
CALSCALE:GREGORIAN
BEGIN:VEVENT
DTSTART:20130510T130000Z
DTEND:20130510T210000Z
X-MICROSOFT-CDO-ALLDAYEVENT:FALSE
SUMMARY:10th Annual Chamber Classic Golf Tournament
DESCRIPTION:For only $125 per person or $400 for a team of 4\, register now to play in this exciting golf tournament!  Get your clubs out!  Each person is entered in to our drawing where you could win our Grand Prize\, two FREE SkyWest airline tickets to Denver from the St. George Airport!  And if you're lucky enough to get a hole-in-one\, you may be driving away with a brand new car from Findlay Auto!  You won't want to miss this great event!
X-ALT-DESC;FMTTYPE=text/html:<p>\n	<span style="font-family: arial\;"><span style="font-size: 16px\;">For only $125 per person or $400 for a team of 4\, register now to play in this exciting golf tournament!&nbsp\; Get your clubs out!&nbsp\; Each person is entered in to our drawing where you could win our Grand Prize\, two FREE SkyWest airline tickets to Denver from the St. George Airport! &nbsp\;And if you&#39\;re lucky enough to get a hole-in-one\, you may be driving away with a brand new car from Findlay Auto! &nbsp\;You won&#39\;t want to miss this great event!&nbsp\;</span></span></p>\n
LOCATION:Sunbrook Golf Course 2366 W. Sunbrook Dr. St. George\, UT
UID:e.1117.2330
SEQUENCE:3
DTSTAMP:20260422T055917Z
URL:https://business.stgeorgechamber.com/events/details/10th-annual-chamber-classic-golf-tournament-05-10-2013-2330
END:VEVENT

END:VCALENDAR
